

BEGIN:VCALENDAR
PRODID:-//snudd.se// event //EN
VERSION:2.0
lika<br>
    
BEGIN:VEVENT

DTSTART:20200621T130000Z
DTEND:20200621T144500Z
SUMMARY;ENCODING=QUOTED-PRINTABLE:Kovlands IF - Infj=E4rdens SK
URL:http://eventellus.com/event.asp?intActivityId=330061&intActivityTimeId=656811&from=icalone
LOCATION;ENCODING=QUOTED-PRINTABLE:Sweden->Sundsvall->=C5n=E4svallen
DESCRIPTION:http://eventellus.com/event.asp?intActivityId=330061&intActivityTimeId=656811&from=icalone
UID:656811_activitytime@eventellus.com
TRANSP:OPAQUE
END:VEVENT


END:VCALENDAR
