

BEGIN:VCALENDAR
PRODID:-//snudd.se// event //EN
VERSION:2.0
lika<br>
    
BEGIN:VEVENT

DTSTART:20200621T140000Z
DTEND:20200621T154500Z
SUMMARY;ENCODING=QUOTED-PRINTABLE:Sunnan=E5 SK - Notvikens IK DFF
URL:http://eventellus.com/event.asp?intActivityId=330062&intActivityTimeId=656812&from=icalone
LOCATION;ENCODING=QUOTED-PRINTABLE:Sweden->Skellefte=E5->Electrolux Home Arena
DESCRIPTION:http://eventellus.com/event.asp?intActivityId=330062&intActivityTimeId=656812&from=icalone
UID:656812_activitytime@eventellus.com
TRANSP:OPAQUE
END:VEVENT


END:VCALENDAR
