

BEGIN:VCALENDAR
PRODID:-//snudd.se// event //EN
VERSION:2.0
lika<br>
    
BEGIN:VEVENT

DTSTART:20200626T183000Z
DTEND:20200626T201500Z
SUMMARY;ENCODING=QUOTED-PRINTABLE:Ope IF - Kovlands IF
URL:http://eventellus.com/event.asp?intActivityId=330063&intActivityTimeId=656813&from=icalone
LOCATION;ENCODING=QUOTED-PRINTABLE:Sweden->=D6stersund->Torvallens IP
DESCRIPTION:http://eventellus.com/event.asp?intActivityId=330063&intActivityTimeId=656813&from=icalone
UID:656813_activitytime@eventellus.com
TRANSP:OPAQUE
END:VEVENT


END:VCALENDAR
