

BEGIN:VCALENDAR
PRODID:-//snudd.se// event //EN
VERSION:2.0
lika<br>
    
BEGIN:VEVENT

DTSTART:20200630T183000Z
DTEND:20200630T201500Z
SUMMARY;ENCODING=QUOTED-PRINTABLE:Infj=E4rdens SK - Myckle IK
URL:http://eventellus.com/event.asp?intActivityId=330068&intActivityTimeId=656818&from=icalone
LOCATION;ENCODING=QUOTED-PRINTABLE:Sweden->Pite=E5->IVAB Arena
DESCRIPTION:http://eventellus.com/event.asp?intActivityId=330068&intActivityTimeId=656818&from=icalone
UID:656818_activitytime@eventellus.com
TRANSP:OPAQUE
END:VEVENT


END:VCALENDAR
