

BEGIN:VCALENDAR
PRODID:-//snudd.se// event //EN
VERSION:2.0
lika<br>
    
BEGIN:VEVENT

DTSTART:20200822T130000Z
DTEND:20200822T144500Z
SUMMARY;ENCODING=QUOTED-PRINTABLE:Kovlands IF - Team TG FF
URL:http://eventellus.com/event.asp?intActivityId=330089&intActivityTimeId=656839&from=icalone
LOCATION;ENCODING=QUOTED-PRINTABLE:Sweden->Sundsvall->=C5n=E4svallen
DESCRIPTION:http://eventellus.com/event.asp?intActivityId=330089&intActivityTimeId=656839&from=icalone
UID:656839_activitytime@eventellus.com
TRANSP:OPAQUE
END:VEVENT


END:VCALENDAR
