

BEGIN:VCALENDAR
PRODID:-//snudd.se// event //EN
VERSION:2.0
lika<br>
    
BEGIN:VEVENT

DTSTART:20200903T183000Z
DTEND:20200903T201500Z
SUMMARY;ENCODING=QUOTED-PRINTABLE:Infj=E4rdens SK - K=E5gedalens AIF
URL:http://eventellus.com/event.asp?intActivityId=330099&intActivityTimeId=656849&from=icalone
LOCATION;ENCODING=QUOTED-PRINTABLE:Sweden->Pite=E5->LF Arena
DESCRIPTION:http://eventellus.com/event.asp?intActivityId=330099&intActivityTimeId=656849&from=icalone
UID:656849_activitytime@eventellus.com
TRANSP:OPAQUE
END:VEVENT


END:VCALENDAR
