

BEGIN:VCALENDAR
PRODID:-//snudd.se// event //EN
VERSION:2.0
lika<br>
    
BEGIN:VEVENT

DTSTART:20200418T150000Z
DTEND:20200418T164500Z
SUMMARY;ENCODING=QUOTED-PRINTABLE:Valbo FF - V=E4ster=E5s BK 30
URL:http://eventellus.com/event.asp?intActivityId=330138&intActivityTimeId=656888&from=icalone
LOCATION;ENCODING=QUOTED-PRINTABLE:Sweden->G=E4vle->Gavlevallen
DESCRIPTION:http://eventellus.com/event.asp?intActivityId=330138&intActivityTimeId=656888&from=icalone
UID:656888_activitytime@eventellus.com
TRANSP:OPAQUE
END:VEVENT


END:VCALENDAR
