

BEGIN:VCALENDAR
PRODID:-//snudd.se// event //EN
VERSION:2.0
lika<br>
    
BEGIN:VEVENT

DTSTART:20200502T130000Z
DTEND:20200502T144500Z
SUMMARY;ENCODING=QUOTED-PRINTABLE:T=E4by FK - Sollentuna FK
URL:http://eventellus.com/event.asp?intActivityId=330149&intActivityTimeId=656899&from=icalone
LOCATION;ENCODING=QUOTED-PRINTABLE:Sweden->T=E4by->Tibblevallen (T=E4by SC 2)
DESCRIPTION:http://eventellus.com/event.asp?intActivityId=330149&intActivityTimeId=656899&from=icalone
UID:656899_activitytime@eventellus.com
TRANSP:OPAQUE
END:VEVENT


END:VCALENDAR
