

BEGIN:VCALENDAR
PRODID:-//snudd.se// event //EN
VERSION:2.0
lika<br>
    
BEGIN:VEVENT

DTSTART:20200503T000000Z
DTEND:20200503T014500Z
SUMMARY;ENCODING=QUOTED-PRINTABLE:Rimbo IF - Gefle IF FF
URL:http://eventellus.com/event.asp?intActivityId=330151&intActivityTimeId=656901&from=icalone
LOCATION;ENCODING=QUOTED-PRINTABLE:Sweden->Norrt=E4lje->IP Arkadien 1
DESCRIPTION:http://eventellus.com/event.asp?intActivityId=330151&intActivityTimeId=656901&from=icalone
UID:656901_activitytime@eventellus.com
TRANSP:OPAQUE
END:VEVENT


END:VCALENDAR
