

BEGIN:VCALENDAR
PRODID:-//snudd.se// event //EN
VERSION:2.0
lika<br>
    
BEGIN:VEVENT

DTSTART:20200507T173000Z
DTEND:20200507T191500Z
SUMMARY;ENCODING=QUOTED-PRINTABLE:Stens=E4tra IF - Sandvikens IF
URL:http://eventellus.com/event.asp?intActivityId=330153&intActivityTimeId=656903&from=icalone
LOCATION;ENCODING=QUOTED-PRINTABLE:Sweden->Lule=E5->Skogsvallen
DESCRIPTION:http://eventellus.com/event.asp?intActivityId=330153&intActivityTimeId=656903&from=icalone
UID:656903_activitytime@eventellus.com
TRANSP:OPAQUE
END:VEVENT


END:VCALENDAR
