

BEGIN:VCALENDAR
PRODID:-//snudd.se// event //EN
VERSION:2.0
lika<br>
    
BEGIN:VEVENT

DTSTART:20200523T120000Z
DTEND:20200523T134500Z
SUMMARY;ENCODING=QUOTED-PRINTABLE:Gefle IF FF - Valbo FF
URL:http://eventellus.com/event.asp?intActivityId=330166&intActivityTimeId=656916&from=icalone
LOCATION;ENCODING=QUOTED-PRINTABLE:Sweden->G=E4vle->Gavlevallen
DESCRIPTION:http://eventellus.com/event.asp?intActivityId=330166&intActivityTimeId=656916&from=icalone
UID:656916_activitytime@eventellus.com
TRANSP:OPAQUE
END:VEVENT


END:VCALENDAR
