

BEGIN:VCALENDAR
PRODID:-//snudd.se// event //EN
VERSION:2.0
lika<br>
    
BEGIN:VEVENT

DTSTART:20200606T110000Z
DTEND:20200606T124500Z
SUMMARY;ENCODING=QUOTED-PRINTABLE:Gefle IF FF - V=E4ster=E5s BK 30
URL:http://eventellus.com/event.asp?intActivityId=330177&intActivityTimeId=656927&from=icalone
LOCATION;ENCODING=QUOTED-PRINTABLE:Sweden->G=E4vle->Gavlevallen
DESCRIPTION:http://eventellus.com/event.asp?intActivityId=330177&intActivityTimeId=656927&from=icalone
UID:656927_activitytime@eventellus.com
TRANSP:OPAQUE
END:VEVENT


END:VCALENDAR
