

BEGIN:VCALENDAR
PRODID:-//snudd.se// event //EN
VERSION:2.0
lika<br>
    
BEGIN:VEVENT

DTSTART:20200628T000000Z
DTEND:20200628T014500Z
SUMMARY;ENCODING=QUOTED-PRINTABLE:V=E4ster=E5s BK 30 - Valbo FF
URL:http://eventellus.com/event.asp?intActivityId=330198&intActivityTimeId=656948&from=icalone
LOCATION;ENCODING=QUOTED-PRINTABLE:Sweden->V=E4ster=E5s->Ringvallen 2 (konstgr=E4s)
DESCRIPTION:http://eventellus.com/event.asp?intActivityId=330198&intActivityTimeId=656948&from=icalone
UID:656948_activitytime@eventellus.com
TRANSP:OPAQUE
END:VEVENT


END:VCALENDAR
