

BEGIN:VCALENDAR
PRODID:-//snudd.se// event //EN
VERSION:2.0
lika<br>
    
BEGIN:VEVENT

DTSTART:20200801T120000Z
DTEND:20200801T134500Z
SUMMARY;ENCODING=QUOTED-PRINTABLE:Gefle IF FF - Sollentuna FK
URL:http://eventellus.com/event.asp?intActivityId=330203&intActivityTimeId=656953&from=icalone
LOCATION;ENCODING=QUOTED-PRINTABLE:Sweden->G=E4vle->Gavlevallen
DESCRIPTION:http://eventellus.com/event.asp?intActivityId=330203&intActivityTimeId=656953&from=icalone
UID:656953_activitytime@eventellus.com
TRANSP:OPAQUE
END:VEVENT


END:VCALENDAR
