

BEGIN:VCALENDAR
PRODID:-//snudd.se// event //EN
VERSION:2.0
lika<br>
    
BEGIN:VEVENT

DTSTART:20200808T110000Z
DTEND:20200808T124500Z
SUMMARY;ENCODING=QUOTED-PRINTABLE:Valbo FF - Ljusdals IF
URL:http://eventellus.com/event.asp?intActivityId=330207&intActivityTimeId=656957&from=icalone
LOCATION;ENCODING=QUOTED-PRINTABLE:Sweden->G=E4vle->=C5byvallen
DESCRIPTION:http://eventellus.com/event.asp?intActivityId=330207&intActivityTimeId=656957&from=icalone
UID:656957_activitytime@eventellus.com
TRANSP:OPAQUE
END:VEVENT


END:VCALENDAR
