

BEGIN:VCALENDAR
PRODID:-//snudd.se// event //EN
VERSION:2.0
lika<br>
    
BEGIN:VEVENT

DTSTART:20200809T000000Z
DTEND:20200809T014500Z
SUMMARY;ENCODING=QUOTED-PRINTABLE:Rimbo IF - Gamla Upsala SK
URL:http://eventellus.com/event.asp?intActivityId=330211&intActivityTimeId=656961&from=icalone
LOCATION;ENCODING=QUOTED-PRINTABLE:Sweden->Norrt=E4lje->IP Arkadien 1
DESCRIPTION:http://eventellus.com/event.asp?intActivityId=330211&intActivityTimeId=656961&from=icalone
UID:656961_activitytime@eventellus.com
TRANSP:OPAQUE
END:VEVENT


END:VCALENDAR
