

BEGIN:VCALENDAR
PRODID:-//snudd.se// event //EN
VERSION:2.0
lika<br>
    
BEGIN:VEVENT

DTSTART:20200822T130000Z
DTEND:20200822T144500Z
SUMMARY;ENCODING=QUOTED-PRINTABLE:T=E4by FK - Gamla Upsala SK
URL:http://eventellus.com/event.asp?intActivityId=330221&intActivityTimeId=656971&from=icalone
LOCATION;ENCODING=QUOTED-PRINTABLE:Sweden->T=E4by->Tibblevallen (T=E4by SC 1)
DESCRIPTION:http://eventellus.com/event.asp?intActivityId=330221&intActivityTimeId=656971&from=icalone
UID:656971_activitytime@eventellus.com
TRANSP:OPAQUE
END:VEVENT


END:VCALENDAR
