

BEGIN:VCALENDAR
PRODID:-//snudd.se// event //EN
VERSION:2.0
lika<br>
    
BEGIN:VEVENT

DTSTART:20200905T110000Z
DTEND:20200905T124500Z
SUMMARY;ENCODING=QUOTED-PRINTABLE:Valbo FF - Gefle IF FF
URL:http://eventellus.com/event.asp?intActivityId=330231&intActivityTimeId=656981&from=icalone
LOCATION;ENCODING=QUOTED-PRINTABLE:Sweden->G=E4vle->=C5byvallen
DESCRIPTION:http://eventellus.com/event.asp?intActivityId=330231&intActivityTimeId=656981&from=icalone
UID:656981_activitytime@eventellus.com
TRANSP:OPAQUE
END:VEVENT


END:VCALENDAR
