

BEGIN:VCALENDAR
PRODID:-//snudd.se// event //EN
VERSION:2.0
lika<br>
    
BEGIN:VEVENT

DTSTART:20200906T120000Z
DTEND:20200906T134500Z
SUMMARY;ENCODING=QUOTED-PRINTABLE:Ljusdals IF - Stens=E4tra IF
URL:http://eventellus.com/event.asp?intActivityId=330235&intActivityTimeId=656985&from=icalone
LOCATION;ENCODING=QUOTED-PRINTABLE:Sweden->Ljusdal->Erik Hamréns plan
DESCRIPTION:http://eventellus.com/event.asp?intActivityId=330235&intActivityTimeId=656985&from=icalone
UID:656985_activitytime@eventellus.com
TRANSP:OPAQUE
END:VEVENT


END:VCALENDAR
