

BEGIN:VCALENDAR
PRODID:-//snudd.se// event //EN
VERSION:2.0
lika<br>
    
BEGIN:VEVENT

DTSTART:20200912T130000Z
DTEND:20200912T144500Z
SUMMARY;ENCODING=QUOTED-PRINTABLE:Sundsvalls DFF - T=E4by FK
URL:http://eventellus.com/event.asp?intActivityId=330238&intActivityTimeId=656988&from=icalone
LOCATION;ENCODING=QUOTED-PRINTABLE:Sweden->Sundsvall->NP3 Arena
DESCRIPTION:http://eventellus.com/event.asp?intActivityId=330238&intActivityTimeId=656988&from=icalone
UID:656988_activitytime@eventellus.com
TRANSP:OPAQUE
END:VEVENT


END:VCALENDAR
