

BEGIN:VCALENDAR
PRODID:-//snudd.se// event //EN
VERSION:2.0
lika<br>
    
BEGIN:VEVENT

DTSTART:20200913T000000Z
DTEND:20200913T014500Z
SUMMARY;ENCODING=QUOTED-PRINTABLE:Rimbo IF - Valbo FF
URL:http://eventellus.com/event.asp?intActivityId=330241&intActivityTimeId=656991&from=icalone
LOCATION;ENCODING=QUOTED-PRINTABLE:Sweden->Norrt=E4lje->IP Arkadien 1
DESCRIPTION:http://eventellus.com/event.asp?intActivityId=330241&intActivityTimeId=656991&from=icalone
UID:656991_activitytime@eventellus.com
TRANSP:OPAQUE
END:VEVENT


END:VCALENDAR
