

BEGIN:VCALENDAR
PRODID:-//snudd.se// event //EN
VERSION:2.0
lika<br>
    
BEGIN:VEVENT

DTSTART:20200919T110000Z
DTEND:20200919T124500Z
SUMMARY;ENCODING=QUOTED-PRINTABLE:Valbo FF - Sundsvalls DFF
URL:http://eventellus.com/event.asp?intActivityId=330243&intActivityTimeId=656993&from=icalone
LOCATION;ENCODING=QUOTED-PRINTABLE:Sweden->G=E4vle->=C5byvallen
DESCRIPTION:http://eventellus.com/event.asp?intActivityId=330243&intActivityTimeId=656993&from=icalone
UID:656993_activitytime@eventellus.com
TRANSP:OPAQUE
END:VEVENT


END:VCALENDAR
