

BEGIN:VCALENDAR
PRODID:-//snudd.se// event //EN
VERSION:2.0
lika<br>
    
BEGIN:VEVENT

DTSTART:20200926T120000Z
DTEND:20200926T134500Z
SUMMARY;ENCODING=QUOTED-PRINTABLE:Gefle IF FF - Ljusdals IF
URL:http://eventellus.com/event.asp?intActivityId=330251&intActivityTimeId=657001&from=icalone
LOCATION;ENCODING=QUOTED-PRINTABLE:Sweden->G=E4vle->Gavlevallen
DESCRIPTION:http://eventellus.com/event.asp?intActivityId=330251&intActivityTimeId=657001&from=icalone
UID:657001_activitytime@eventellus.com
TRANSP:OPAQUE
END:VEVENT


END:VCALENDAR
