

BEGIN:VCALENDAR
PRODID:-//snudd.se// event //EN
VERSION:2.0
lika<br>
    
BEGIN:VEVENT

DTSTART:20201003T130000Z
DTEND:20201003T144500Z
SUMMARY;ENCODING=QUOTED-PRINTABLE:Ljusdals IF - Rimbo IF
URL:http://eventellus.com/event.asp?intActivityId=330257&intActivityTimeId=657007&from=icalone
LOCATION;ENCODING=QUOTED-PRINTABLE:Sweden->Ljusdal->Erik Hamréns plan
DESCRIPTION:http://eventellus.com/event.asp?intActivityId=330257&intActivityTimeId=657007&from=icalone
UID:657007_activitytime@eventellus.com
TRANSP:OPAQUE
END:VEVENT


END:VCALENDAR
