

BEGIN:VCALENDAR
PRODID:-//snudd.se// event //EN
VERSION:2.0
lika<br>
    
BEGIN:VEVENT

DTSTART:20200331T133000Z
DTEND:20200331T151000Z
SUMMARY;ENCODING=QUOTED-PRINTABLE:K=F6r=F6vning
URL:http://eventellus.com/event.asp?intActivityId=330285&intActivityTimeId=657035&from=icalone
LOCATION;ENCODING=QUOTED-PRINTABLE:Sweden->Gotland->Hemse f=F6rsamlingshem
DESCRIPTION:http://eventellus.com/event.asp?intActivityId=330285&intActivityTimeId=657035&from=icalone
UID:657035_activitytime@eventellus.com
TRANSP:OPAQUE
END:VEVENT


END:VCALENDAR
