

BEGIN:VCALENDAR
PRODID:-//snudd.se// event //EN
VERSION:2.0
lika<br>
    
BEGIN:VEVENT

DTSTART:20210921T133000Z
DTEND:20210921T150000Z
SUMMARY;ENCODING=QUOTED-PRINTABLE:Largimus kör
URL:http://eventellus.com/event.asp?intActivityId=334594&intActivityTimeId=660935&from=icalone
LOCATION;ENCODING=QUOTED-PRINTABLE:Sweden->Gotland->Hemse f=F6rsamlingshem
DESCRIPTION:http://eventellus.com/event.asp?intActivityId=334594&intActivityTimeId=660935&from=icalone
UID:660935_activitytime@eventellus.com
TRANSP:OPAQUE
END:VEVENT


END:VCALENDAR
