

BEGIN:VCALENDAR
PRODID:-//snudd.se// event //EN
VERSION:2.0
lika<br>
    
BEGIN:VEVENT

DTSTART:20211116T133000Z
DTEND:20211116T150000Z
SUMMARY;ENCODING=QUOTED-PRINTABLE:Largimus kör
URL:http://eventellus.com/event.asp?intActivityId=334602&intActivityTimeId=660943&from=icalone
LOCATION;ENCODING=QUOTED-PRINTABLE:Sweden->Gotland->Hemse f=F6rsamlingshem
DESCRIPTION:http://eventellus.com/event.asp?intActivityId=334602&intActivityTimeId=660943&from=icalone
UID:660943_activitytime@eventellus.com
TRANSP:OPAQUE
END:VEVENT


END:VCALENDAR
