

BEGIN:VCALENDAR
PRODID:-//snudd.se// event //EN
VERSION:2.0
lika<br>
    
BEGIN:VEVENT

DTSTART:20220927T140000Z
DTEND:20220927T150000Z
SUMMARY;ENCODING=QUOTED-PRINTABLE:Largimus Kör
URL:http://eventellus.com/event.asp?intActivityId=335362&intActivityTimeId=661722&from=icalone
LOCATION;ENCODING=QUOTED-PRINTABLE:Sweden->Gotland->Hemse f=F6rsamlingshem
DESCRIPTION:http://eventellus.com/event.asp?intActivityId=335362&intActivityTimeId=661722&from=icalone
UID:661722_activitytime@eventellus.com
TRANSP:OPAQUE
END:VEVENT


END:VCALENDAR
