

BEGIN:VCALENDAR
PRODID:-//snudd.se// event //EN
VERSION:2.0
lika<br>
    
BEGIN:VEVENT

DTSTART:20221206T140000Z
DTEND:20221206T150000Z
SUMMARY;ENCODING=QUOTED-PRINTABLE:Largimus Kör
URL:http://eventellus.com/event.asp?intActivityId=335372&intActivityTimeId=661732&from=icalone
LOCATION;ENCODING=QUOTED-PRINTABLE:Sweden->Gotland->Hemse f=F6rsamlingshem
DESCRIPTION:http://eventellus.com/event.asp?intActivityId=335372&intActivityTimeId=661732&from=icalone
UID:661732_activitytime@eventellus.com
TRANSP:OPAQUE
END:VEVENT


END:VCALENDAR
