

BEGIN:VCALENDAR
PRODID:-//snudd.se// event //EN
VERSION:2.0
lika<br>
    
BEGIN:VEVENT

DTSTART:20221004T150000Z
DTEND:20221004T160000Z
SUMMARY;ENCODING=QUOTED-PRINTABLE:Kör
URL:http://eventellus.com/event.asp?intActivityId=335575&intActivityTimeId=661935&from=icalone
LOCATION;ENCODING=QUOTED-PRINTABLE:Sweden->Gotland->Hemse f=F6rsamlingshem
DESCRIPTION:http://eventellus.com/event.asp?intActivityId=335575&intActivityTimeId=661935&from=icalone
UID:661935_activitytime@eventellus.com
TRANSP:OPAQUE
END:VEVENT


END:VCALENDAR
