

BEGIN:VCALENDAR
PRODID:-//snudd.se// event //EN
VERSION:2.0
lika<br>
    
BEGIN:VEVENT

DTSTART:20221018T150000Z
DTEND:20221018T160000Z
SUMMARY;ENCODING=QUOTED-PRINTABLE:Kör
URL:http://eventellus.com/event.asp?intActivityId=335577&intActivityTimeId=661937&from=icalone
LOCATION;ENCODING=QUOTED-PRINTABLE:Sweden->Gotland->Hemse f=F6rsamlingshem
DESCRIPTION:http://eventellus.com/event.asp?intActivityId=335577&intActivityTimeId=661937&from=icalone
UID:661937_activitytime@eventellus.com
TRANSP:OPAQUE
END:VEVENT


END:VCALENDAR
