

BEGIN:VCALENDAR
PRODID:-//snudd.se// event //EN
VERSION:2.0
lika<br>
    
BEGIN:VEVENT

DTSTART:20221122T150000Z
DTEND:20221122T160000Z
SUMMARY;ENCODING=QUOTED-PRINTABLE:Kör
URL:http://eventellus.com/event.asp?intActivityId=335582&intActivityTimeId=661942&from=icalone
LOCATION;ENCODING=QUOTED-PRINTABLE:Sweden->Gotland->Hemse f=F6rsamlingshem
DESCRIPTION:http://eventellus.com/event.asp?intActivityId=335582&intActivityTimeId=661942&from=icalone
UID:661942_activitytime@eventellus.com
TRANSP:OPAQUE
END:VEVENT


END:VCALENDAR
