

BEGIN:VCALENDAR
PRODID:-//snudd.se// event //EN
VERSION:2.0
lika<br>
    
BEGIN:VEVENT

DTSTART:20221106T083000Z
DTEND:20221106T100000Z
SUMMARY;ENCODING=QUOTED-PRINTABLE:Sång i kyrka samling
URL:http://eventellus.com/event.asp?intActivityId=335664&intActivityTimeId=662024&from=icalone
LOCATION;ENCODING=QUOTED-PRINTABLE:Sweden->Gotland->Hemse f=F6rsamlingshem
DESCRIPTION:http://eventellus.com/event.asp?intActivityId=335664&intActivityTimeId=662024&from=icalone
UID:662024_activitytime@eventellus.com
TRANSP:OPAQUE
END:VEVENT


END:VCALENDAR
