

BEGIN:VCALENDAR
PRODID:-//snudd.se// event //EN
VERSION:2.0
lika<br>
    
BEGIN:VEVENT

DTSTART:20221211T130000Z
DTEND:20221211T150000Z
SUMMARY;ENCODING=QUOTED-PRINTABLE:Luciagudstjänst samling
URL:http://eventellus.com/event.asp?intActivityId=335666&intActivityTimeId=662026&from=icalone
LOCATION;ENCODING=QUOTED-PRINTABLE:Sweden->Gotland->Hemse f=F6rsamlingshem
DESCRIPTION:http://eventellus.com/event.asp?intActivityId=335666&intActivityTimeId=662026&from=icalone
UID:662026_activitytime@eventellus.com
TRANSP:OPAQUE
END:VEVENT


END:VCALENDAR
