

BEGIN:VCALENDAR
PRODID:-//snudd.se// event //EN
VERSION:2.0
lika<br>
    
BEGIN:VEVENT

DTSTART:20200830T000000Z
DTEND:20200830T014500Z
SUMMARY;ENCODING=QUOTED-PRINTABLE:GAIS - IK Brage
URL:http://eventellus.com/event.asp?intActivityId=329725&intActivityTimeId=656478&from=icalone
LOCATION;ENCODING=QUOTED-PRINTABLE:Sweden->G=F6teborg->Gamla Ullevi
DESCRIPTION:http://eventellus.com/event.asp?intActivityId=329725&intActivityTimeId=656478&from=icalone
UID:656478_activitytime@eventellus.com
TRANSP:OPAQUE
END:VEVENT


END:VCALENDAR
